BEGIN:VCALENDAR
VERSION:2.0
PRODID:-//The Doug Williams Center - ECPv6.15.17.1//NONSGML v1.0//EN
CALSCALE:GREGORIAN
METHOD:PUBLISH
X-WR-CALNAME:The Doug Williams Center
X-ORIGINAL-URL:https://dougwilliamscenter.com
X-WR-CALDESC:Events for The Doug Williams Center
REFRESH-INTERVAL;VALUE=DURATION:PT1H
X-Robots-Tag:noindex
X-PUBLISHED-TTL:PT1H
BEGIN:VTIMEZONE
TZID:America/Los_Angeles
BEGIN:DAYLIGHT
TZOFFSETFROM:-0800
TZOFFSETTO:-0700
TZNAME:PDT
DTSTART:20200308T100000
END:DAYLIGHT
BEGIN:STANDARD
TZOFFSETFROM:-0700
TZOFFSETTO:-0800
TZNAME:PST
DTSTART:20201101T090000
END:STANDARD
BEGIN:DAYLIGHT
TZOFFSETFROM:-0800
TZOFFSETTO:-0700
TZNAME:PDT
DTSTART:20210314T100000
END:DAYLIGHT
BEGIN:STANDARD
TZOFFSETFROM:-0700
TZOFFSETTO:-0800
TZNAME:PST
DTSTART:20211107T090000
END:STANDARD
BEGIN:DAYLIGHT
TZOFFSETFROM:-0800
TZOFFSETTO:-0700
TZNAME:PDT
DTSTART:20220313T100000
END:DAYLIGHT
BEGIN:STANDARD
TZOFFSETFROM:-0700
TZOFFSETTO:-0800
TZNAME:PST
DTSTART:20221106T090000
END:STANDARD
END:VTIMEZONE
BEGIN:VEVENT
DTSTART;TZID=America/Los_Angeles:20210222T080000
DTEND;TZID=America/Los_Angeles:20210222T170000
DTSTAMP:20260424T064008
CREATED:20210222T172615Z
LAST-MODIFIED:20210222T172615Z
UID:6698-1613980800-1614013200@dougwilliamscenter.com
SUMMARY:DWC Solution Series: Crafting Your Career
DESCRIPTION:The Doug Williams Center and NFL Campus Connection presents Part II of the DWC Solution Series: Crafting Your Career on February 25 at 11:45 AM –  12:45PM CST. Come learn how your major can be applied in a career with the NFL! Get your questions answered as NFL leaders teach you how to craft your path into the sports industry. \nGSU students interested in technology\, business\, data analytics\, and pre-law\, you won’t want to miss part two of The Doug Williams Center’s Solution Series! \nSpeakers include: \n\nTaylor Kielpinski-Rogers\, NFL\, Director of Communications\nGeorge Li\, Indianapolis Colts\, Senior Football Strategy Analyst/Game Management\nKwesi Adofo-Mensah\, Cleveland Browns\, VP of Football Operations\nJay Reid\, Senior Director- NFL\, Senior Director\, Football Operations Technology Strategy\nSarah Bailey\, LA Rams\, Manager\, Data & Analytics\n\nJoin us for a live virtual forum on how to advance in the professional sports industry while effecting social change. \nSpaces are limited!  REGISTER NOW!
URL:https://dougwilliamscenter.com/events/dwc-solution-series-crafting-your-career/
LOCATION:LA
END:VEVENT
END:VCALENDAR