BEGIN:VCALENDAR
VERSION:2.0
PRODID:-//The Doug Williams Center - ECPv6.15.17.1//NONSGML v1.0//EN
CALSCALE:GREGORIAN
METHOD:PUBLISH
X-ORIGINAL-URL:https://dougwilliamscenter.com
X-WR-CALDESC:Events for The Doug Williams Center
REFRESH-INTERVAL;VALUE=DURATION:PT1H
X-Robots-Tag:noindex
X-PUBLISHED-TTL:PT1H
BEGIN:VTIMEZONE
TZID:America/Los_Angeles
BEGIN:DAYLIGHT
TZOFFSETFROM:-0800
TZOFFSETTO:-0700
TZNAME:PDT
DTSTART:20200308T100000
END:DAYLIGHT
BEGIN:STANDARD
TZOFFSETFROM:-0700
TZOFFSETTO:-0800
TZNAME:PST
DTSTART:20201101T090000
END:STANDARD
BEGIN:DAYLIGHT
TZOFFSETFROM:-0800
TZOFFSETTO:-0700
TZNAME:PDT
DTSTART:20210314T100000
END:DAYLIGHT
BEGIN:STANDARD
TZOFFSETFROM:-0700
TZOFFSETTO:-0800
TZNAME:PST
DTSTART:20211107T090000
END:STANDARD
BEGIN:DAYLIGHT
TZOFFSETFROM:-0800
TZOFFSETTO:-0700
TZNAME:PDT
DTSTART:20220313T100000
END:DAYLIGHT
BEGIN:STANDARD
TZOFFSETFROM:-0700
TZOFFSETTO:-0800
TZNAME:PST
DTSTART:20221106T090000
END:STANDARD
END:VTIMEZONE
BEGIN:VEVENT
DTSTART;VALUE=DATE:20210723
DTEND;VALUE=DATE:20210726
DTSTAMP:20260424T075754
CREATED:20210517T153609Z
LAST-MODIFIED:20210517T153609Z
UID:6747-1626998400-1627257599@dougwilliamscenter.com
SUMMARY:5th Annual Brown Girls Do Gymnastics Conference
DESCRIPTION:FRIDAY\, JULY 23\, 2021 – 12-6PM CST\n12-2pm Registration \n2-6pm Workshops\, Workouts & Tours (Snacks Provided) \nSATURDAY\, JULY 24\, 2021 – 10AM-4PM CST\n10am – 4pm Workshops\, Workouts & Tours (Lunch and Snacks Provided) \n6-8pm Outing/Activity \nSUNDAY\, JULY 25\, 2021 – 10AM-4PM CST\n10am-12pm Isla Invitational (Free admission to Conference Attendees) \n1-4pm Pro-Gymnastics Exhibition (Free admission to Conference Attendees) \nThe BGDG Conference is intended for:\n\n\nLevels 3 & Up\, Xcel Silver & Up\, Advanced Aerialists\, Advanced Acrobats\n\n\nAges 6 to 18\n\n\n$200 – Early Bird Ticket (April 24 – May 31\, 2021)\n$250 – Regular Ticket (June 1 – June 30\, 2021)\nEach ticket includes admission for 1 gymnast and 1 parent/adult figure. There will only be one parent/adult figure allowed with each gymnast due to covid precautions.\nSibling Discount – $50 off
URL:https://dougwilliamscenter.com/events/5th-annual-brown-girls-do-gymnastics-conference-2/
LOCATION:Grambling State University – Hobdy Assembly Center\, 148 100 North Stadium Drive\, Grambling\, LA\, 71245\, United States
END:VEVENT
END:VCALENDAR